BEGIN:VCALENDAR
VERSION:2.0
PRODID:-//Bronx Community Board 6 - ECPv6.15.20//NONSGML v1.0//EN
CALSCALE:GREGORIAN
METHOD:PUBLISH
X-WR-CALNAME:Bronx Community Board 6
X-ORIGINAL-URL:https://cbbronx.cityofnewyork.us/cb6
X-WR-CALDESC:Events for Bronx Community Board 6
REFRESH-INTERVAL;VALUE=DURATION:PT1H
X-Robots-Tag:noindex
X-PUBLISHED-TTL:PT1H
BEGIN:VTIMEZONE
TZID:America/New_York
BEGIN:DAYLIGHT
TZOFFSETFROM:-0500
TZOFFSETTO:-0400
TZNAME:EDT
DTSTART:20250309T070000
END:DAYLIGHT
BEGIN:STANDARD
TZOFFSETFROM:-0400
TZOFFSETTO:-0500
TZNAME:EST
DTSTART:20251102T060000
END:STANDARD
BEGIN:DAYLIGHT
TZOFFSETFROM:-0500
TZOFFSETTO:-0400
TZNAME:EDT
DTSTART:20260308T070000
END:DAYLIGHT
BEGIN:STANDARD
TZOFFSETFROM:-0400
TZOFFSETTO:-0500
TZNAME:EST
DTSTART:20261101T060000
END:STANDARD
BEGIN:DAYLIGHT
TZOFFSETFROM:-0500
TZOFFSETTO:-0400
TZNAME:EDT
DTSTART:20270314T070000
END:DAYLIGHT
BEGIN:STANDARD
TZOFFSETFROM:-0400
TZOFFSETTO:-0500
TZNAME:EST
DTSTART:20271107T060000
END:STANDARD
END:VTIMEZONE
BEGIN:VEVENT
DTSTART;TZID=America/New_York:20260514T183000
DTEND;TZID=America/New_York:20260514T203000
DTSTAMP:20260423T021647
CREATED:20250708T182109Z
LAST-MODIFIED:20250708T182109Z
UID:10000657-1778783400-1778790600@cbbronx.cityofnewyork.us
SUMMARY:Transportation and Health and Human Services Committee Meeting
DESCRIPTION:
URL:https://cbbronx.cityofnewyork.us/cb6/event/transportation-and-health-and-human-services-committee-meeting-3/2026-05-14/
END:VEVENT
BEGIN:VEVENT
DTSTART;TZID=America/New_York:20260611T183000
DTEND;TZID=America/New_York:20260611T203000
DTSTAMP:20260423T021647
CREATED:20250708T182109Z
LAST-MODIFIED:20250708T182109Z
UID:10000658-1781202600-1781209800@cbbronx.cityofnewyork.us
SUMMARY:Transportation and Health and Human Services Committee Meeting
DESCRIPTION:
URL:https://cbbronx.cityofnewyork.us/cb6/event/transportation-and-health-and-human-services-committee-meeting-3/2026-06-11/
END:VEVENT
END:VCALENDAR