BEGIN:VCALENDAR
VERSION:2.0
PRODID:-//Bronx Community Board 8 - ECPv6.15.20//NONSGML v1.0//EN
CALSCALE:GREGORIAN
METHOD:PUBLISH
X-ORIGINAL-URL:https://cbbronx.cityofnewyork.us/cb8
X-WR-CALDESC:Events for Bronx Community Board 8
REFRESH-INTERVAL;VALUE=DURATION:PT1H
X-Robots-Tag:noindex
X-PUBLISHED-TTL:PT1H
BEGIN:VTIMEZONE
TZID:UTC
BEGIN:STANDARD
TZOFFSETFROM:+0000
TZOFFSETTO:+0000
TZNAME:UTC
DTSTART:20220101T000000
END:STANDARD
END:VTIMEZONE
BEGIN:VEVENT
DTSTART;VALUE=DATE:20230223
DTEND;VALUE=DATE:20230224
DTSTAMP:20260424T221257
CREATED:20230203T214250Z
LAST-MODIFIED:20230203T214250Z
UID:10000948-1677110400-1677196799@cbbronx.cityofnewyork.us
SUMMARY:Economic Development Committee (No Meeting)
DESCRIPTION:
URL:https://cbbronx.cityofnewyork.us/cb8/event/economic-development-committee-no-meeting/
END:VEVENT
END:VCALENDAR