BEGIN:VCALENDAR
VERSION:2.0
PRODID:-//Bronx Community Board 8 - ECPv6.15.20//NONSGML v1.0//EN
CALSCALE:GREGORIAN
METHOD:PUBLISH
X-ORIGINAL-URL:https://cbbronx.cityofnewyork.us/cb8
X-WR-CALDESC:Events for Bronx Community Board 8
REFRESH-INTERVAL;VALUE=DURATION:PT1H
X-Robots-Tag:noindex
X-PUBLISHED-TTL:PT1H
BEGIN:VTIMEZONE
TZID:UTC
BEGIN:STANDARD
TZOFFSETFROM:+0000
TZOFFSETTO:+0000
TZNAME:UTC
DTSTART:20220101T000000
END:STANDARD
END:VTIMEZONE
BEGIN:VEVENT
DTSTART;TZID=UTC:20230213T160000
DTEND;TZID=UTC:20230213T170000
DTSTAMP:20260425T161226
CREATED:20220920T220550Z
LAST-MODIFIED:20221206T022333Z
UID:10000608-1676304000-1676307600@cbbronx.cityofnewyork.us
SUMMARY:Aging
DESCRIPTION:Agenda \nhttps://us02web.zoom.us/j/2114033690
URL:https://cbbronx.cityofnewyork.us/cb8/event/aging/2023-02-13/
END:VEVENT
BEGIN:VEVENT
DTSTART;TZID=UTC:20230213T190000
DTEND;TZID=UTC:20230213T200000
DTSTAMP:20260425T161226
CREATED:20220920T220744Z
LAST-MODIFIED:20221220T230843Z
UID:10000671-1676314800-1676318400@cbbronx.cityofnewyork.us
SUMMARY:Law\, Rules & Ethics
DESCRIPTION:
URL:https://cbbronx.cityofnewyork.us/cb8/event/law-rules-ethics-2/2023-02-13/
END:VEVENT
BEGIN:VEVENT
DTSTART;TZID=UTC:20230214T183000
DTEND;TZID=UTC:20230214T190000
DTSTAMP:20260425T161226
CREATED:20230203T213458Z
LAST-MODIFIED:20230203T213641Z
UID:10000943-1676399400-1676401200@cbbronx.cityofnewyork.us
SUMMARY:FY24 Budget Response Public Hearing
DESCRIPTION:Join Zoom Meeting: https://us02web.zoom.us/j/2114033690 \nJoin Zoom Meeting by Phone: (646) 558-8656              Pin: 2114033690#
URL:https://cbbronx.cityofnewyork.us/cb8/event/fy24-budget-response-public-hearing/
END:VEVENT
BEGIN:VEVENT
DTSTART;TZID=UTC:20230214T190000
DTEND;TZID=UTC:20230214T200000
DTSTAMP:20260425T161226
CREATED:20220920T220115Z
LAST-MODIFIED:20221212T202253Z
UID:10000480-1676401200-1676404800@cbbronx.cityofnewyork.us
SUMMARY:Full Board
DESCRIPTION:https://us02web.zoom.us/j/2114033690 \nAmended Agenda & Packet
URL:https://cbbronx.cityofnewyork.us/cb8/event/full-board/2023-02-14/
END:VEVENT
BEGIN:VEVENT
DTSTART;TZID=UTC:20230215T190000
DTEND;TZID=UTC:20230215T203000
DTSTAMP:20260425T161226
CREATED:20230125T010402Z
LAST-MODIFIED:20230125T010402Z
UID:10000880-1676487600-1676493000@cbbronx.cityofnewyork.us
SUMMARY:Environment & Sanitation
DESCRIPTION:
URL:https://cbbronx.cityofnewyork.us/cb8/event/environment-sanitation-2/2023-02-15/
END:VEVENT
BEGIN:VEVENT
DTSTART;TZID=UTC:20230216T190000
DTEND;TZID=UTC:20230216T200000
DTSTAMP:20260425T161226
CREATED:20230203T213747Z
LAST-MODIFIED:20230203T213747Z
UID:10000944-1676574000-1676577600@cbbronx.cityofnewyork.us
SUMMARY:Traffic & Transportation Committee
DESCRIPTION:Join Zoom Meeting: https://us02web.zoom.us/j/2114033690 \nJoin Zoom Meeting by Phone: (646) 558-8656              Pin: 2114033690#
URL:https://cbbronx.cityofnewyork.us/cb8/event/traffic-transportation-committee/
END:VEVENT
END:VCALENDAR