BEGIN:VCALENDAR
VERSION:2.0
PRODID:-//Bronx Community Board 8 - ECPv6.15.20//NONSGML v1.0//EN
CALSCALE:GREGORIAN
METHOD:PUBLISH
X-ORIGINAL-URL:https://cbbronx.cityofnewyork.us/cb8
X-WR-CALDESC:Events for Bronx Community Board 8
REFRESH-INTERVAL;VALUE=DURATION:PT1H
X-Robots-Tag:noindex
X-PUBLISHED-TTL:PT1H
BEGIN:VTIMEZONE
TZID:UTC
BEGIN:STANDARD
TZOFFSETFROM:+0000
TZOFFSETTO:+0000
TZNAME:UTC
DTSTART:20220101T000000
END:STANDARD
END:VTIMEZONE
BEGIN:VEVENT
DTSTART;TZID=UTC:20230227T190000
DTEND;TZID=UTC:20230227T200000
DTSTAMP:20260425T152435
CREATED:20230203T214006Z
LAST-MODIFIED:20230226T043842Z
UID:10000946-1677524400-1677528000@cbbronx.cityofnewyork.us
SUMMARY:Housing Committee - NO MEETING
DESCRIPTION:NO MEETING SCHEDUELED FOR FEBRUARY 2023
URL:https://cbbronx.cityofnewyork.us/cb8/event/housing-committee/
END:VEVENT
BEGIN:VEVENT
DTSTART;TZID=UTC:20230228T193000
DTEND;TZID=UTC:20230228T203000
DTSTAMP:20260425T152435
CREATED:20220920T221250Z
LAST-MODIFIED:20221101T211300Z
UID:10000742-1677612600-1677616200@cbbronx.cityofnewyork.us
SUMMARY:Education\, Libraries & Cultural Affairs
DESCRIPTION:https://us02web.zoom.us/j/2114033690
URL:https://cbbronx.cityofnewyork.us/cb8/event/education-libraries-cultural-affairs/2023-02-28/
END:VEVENT
BEGIN:VEVENT
DTSTART;TZID=UTC:20230301T190000
DTEND;TZID=UTC:20230301T203000
DTSTAMP:20260425T152435
CREATED:20220920T220455Z
LAST-MODIFIED:20230226T044510Z
UID:10000546-1677697200-1677702600@cbbronx.cityofnewyork.us
SUMMARY:EXECUTIVE COMMITTEE
DESCRIPTION:NOTE: The Public is allowed to attend. But not abled to speak during meeting. \n  \nJoin Zoom Meeting: https://us02web.zoom.us/j/2114033690\nJoin Zoom Meeting by Phone: +16465588656\,\,2114033690# US (New York)\nMeeting ID: 211 403 3690
URL:https://cbbronx.cityofnewyork.us/cb8/event/executive-2/2023-03-01/
END:VEVENT
BEGIN:VEVENT
DTSTART;TZID=UTC:20230302T190000
DTEND;TZID=UTC:20230302T200000
DTSTAMP:20260425T152435
CREATED:20230226T044234Z
LAST-MODIFIED:20230226T044234Z
UID:10000950-1677783600-1677787200@cbbronx.cityofnewyork.us
SUMMARY:SPECIAL COMMITTEE ON RACIAL EQUITY
DESCRIPTION:Join Zoom Meeting: https://us02web.zoom.us/j/2114033690\nJoin Zoom Meeting by Phone: +16465588656\,\,2114033690# US (New York)\nMeeting ID: 211 403 3690
URL:https://cbbronx.cityofnewyork.us/cb8/event/special-committee-on-racial-equity-5/
END:VEVENT
END:VCALENDAR