BEGIN:VCALENDAR
VERSION:2.0
PRODID:-//Bronx Community Board 8 - ECPv6.15.20//NONSGML v1.0//EN
CALSCALE:GREGORIAN
METHOD:PUBLISH
X-WR-CALNAME:Bronx Community Board 8
X-ORIGINAL-URL:https://cbbronx.cityofnewyork.us/cb8
X-WR-CALDESC:Events for Bronx Community Board 8
REFRESH-INTERVAL;VALUE=DURATION:PT1H
X-Robots-Tag:noindex
X-PUBLISHED-TTL:PT1H
BEGIN:VTIMEZONE
TZID:America/New_York
BEGIN:DAYLIGHT
TZOFFSETFROM:-0500
TZOFFSETTO:-0400
TZNAME:EDT
DTSTART:20220313T070000
END:DAYLIGHT
BEGIN:STANDARD
TZOFFSETFROM:-0400
TZOFFSETTO:-0500
TZNAME:EST
DTSTART:20221106T060000
END:STANDARD
BEGIN:DAYLIGHT
TZOFFSETFROM:-0500
TZOFFSETTO:-0400
TZNAME:EDT
DTSTART:20230312T070000
END:DAYLIGHT
BEGIN:STANDARD
TZOFFSETFROM:-0400
TZOFFSETTO:-0500
TZNAME:EST
DTSTART:20231105T060000
END:STANDARD
BEGIN:DAYLIGHT
TZOFFSETFROM:-0500
TZOFFSETTO:-0400
TZNAME:EDT
DTSTART:20240310T070000
END:DAYLIGHT
BEGIN:STANDARD
TZOFFSETFROM:-0400
TZOFFSETTO:-0500
TZNAME:EST
DTSTART:20241103T060000
END:STANDARD
END:VTIMEZONE
BEGIN:VTIMEZONE
TZID:UTC
BEGIN:STANDARD
TZOFFSETFROM:+0000
TZOFFSETTO:+0000
TZNAME:UTC
DTSTART:20220101T000000
END:STANDARD
END:VTIMEZONE
BEGIN:VEVENT
DTSTART;TZID=America/New_York:20230320T193000
DTEND;TZID=America/New_York:20230320T210000
DTSTAMP:20260425T223427
CREATED:20230327T193119Z
LAST-MODIFIED:20230327T193321Z
UID:10000954-1679340600-1679346000@cbbronx.cityofnewyork.us
SUMMARY:Youth
DESCRIPTION:https://us02web.zoom.us/j/2114033690
URL:https://cbbronx.cityofnewyork.us/cb8/event/youth-2/
END:VEVENT
BEGIN:VEVENT
DTSTART;TZID=America/New_York:20230321T190000
DTEND;TZID=America/New_York:20230321T210000
DTSTAMP:20260425T223427
CREATED:20230327T193143Z
LAST-MODIFIED:20230327T193143Z
UID:10000955-1679425200-1679432400@cbbronx.cityofnewyork.us
SUMMARY:Public Safety
DESCRIPTION:https://us02web.zoom.us/j/2114033690
URL:https://cbbronx.cityofnewyork.us/cb8/event/public-safety-3/
END:VEVENT
BEGIN:VEVENT
DTSTART;TZID=America/New_York:20230322T190000
DTEND;TZID=America/New_York:20230322T210000
DTSTAMP:20260425T223427
CREATED:20230327T193219Z
LAST-MODIFIED:20230327T193219Z
UID:10000956-1679511600-1679518800@cbbronx.cityofnewyork.us
SUMMARY:District Manager Search Committee
DESCRIPTION:https://us02web.zoom.us/j/2114033690
URL:https://cbbronx.cityofnewyork.us/cb8/event/district-manager-search-committee/
END:VEVENT
BEGIN:VEVENT
DTSTART;TZID=UTC:20230323T190000
DTEND;TZID=UTC:20230323T203000
DTSTAMP:20260425T223427
CREATED:20221220T225309Z
LAST-MODIFIED:20230226T044802Z
UID:10000812-1679598000-1679603400@cbbronx.cityofnewyork.us
SUMMARY:LAND USE COMMITTEE
DESCRIPTION:Join Zoom Meeting: https://us02web.zoom.us/j/2114033690\nJoin Zoom Meeting by Phone: +16465588656\,\,2114033690# US (New York)\nMeeting ID: 211 403 3690
URL:https://cbbronx.cityofnewyork.us/cb8/event/land-use-note-change-in-date/
END:VEVENT
END:VCALENDAR