BEGIN:VCALENDAR
VERSION:2.0
PRODID:-//Bronx Community Board 8 - ECPv6.15.20//NONSGML v1.0//EN
CALSCALE:GREGORIAN
METHOD:PUBLISH
X-ORIGINAL-URL:https://cbbronx.cityofnewyork.us/cb8
X-WR-CALDESC:Events for Bronx Community Board 8
REFRESH-INTERVAL;VALUE=DURATION:PT1H
X-Robots-Tag:noindex
X-PUBLISHED-TTL:PT1H
BEGIN:VTIMEZONE
TZID:UTC
BEGIN:STANDARD
TZOFFSETFROM:+0000
TZOFFSETTO:+0000
TZNAME:UTC
DTSTART:20220101T000000
END:STANDARD
END:VTIMEZONE
BEGIN:VTIMEZONE
TZID:America/New_York
BEGIN:DAYLIGHT
TZOFFSETFROM:-0500
TZOFFSETTO:-0400
TZNAME:EDT
DTSTART:20220313T070000
END:DAYLIGHT
BEGIN:STANDARD
TZOFFSETFROM:-0400
TZOFFSETTO:-0500
TZNAME:EST
DTSTART:20221106T060000
END:STANDARD
BEGIN:DAYLIGHT
TZOFFSETFROM:-0500
TZOFFSETTO:-0400
TZNAME:EDT
DTSTART:20230312T070000
END:DAYLIGHT
BEGIN:STANDARD
TZOFFSETFROM:-0400
TZOFFSETTO:-0500
TZNAME:EST
DTSTART:20231105T060000
END:STANDARD
BEGIN:DAYLIGHT
TZOFFSETFROM:-0500
TZOFFSETTO:-0400
TZNAME:EDT
DTSTART:20240310T070000
END:DAYLIGHT
BEGIN:STANDARD
TZOFFSETFROM:-0400
TZOFFSETTO:-0500
TZNAME:EST
DTSTART:20241103T060000
END:STANDARD
END:VTIMEZONE
BEGIN:VEVENT
DTSTART;TZID=UTC:20230410T190000
DTEND;TZID=UTC:20230410T203000
DTSTAMP:20260423T015650
CREATED:20230403T142257Z
LAST-MODIFIED:20230403T142258Z
UID:10000547-1681153200-1681158600@cbbronx.cityofnewyork.us
SUMMARY:EXECUTIVE COMMITTEE
DESCRIPTION:NOTE: The Public is allowed to attend. But not abled to speak during meeting. \n  \nJoin Zoom Meeting: https://us02web.zoom.us/j/2114033690\nJoin Zoom Meeting by Phone: +16465588656\,\,2114033690# US (New York)\nMeeting ID: 211 403 3690
URL:https://cbbronx.cityofnewyork.us/cb8/event/executive-2-2/2023-04-10/
END:VEVENT
BEGIN:VEVENT
DTSTART;TZID=America/New_York:20230411T190000
DTEND;TZID=America/New_York:20230411T210000
DTSTAMP:20260423T015650
CREATED:20230403T144627Z
LAST-MODIFIED:20230403T144644Z
UID:10001032-1681239600-1681246800@cbbronx.cityofnewyork.us
SUMMARY:District Manager Search Committee
DESCRIPTION:BxCB8 Board Office\n5676 Riverdale Avenue #100\, Bronx\, NY 10471
URL:https://cbbronx.cityofnewyork.us/cb8/event/district-manager-search-committee-2/
END:VEVENT
BEGIN:VEVENT
DTSTART;TZID=America/New_York:20230412T190000
DTEND;TZID=America/New_York:20230412T210000
DTSTAMP:20260423T015650
CREATED:20230403T144709Z
LAST-MODIFIED:20230403T144709Z
UID:10001033-1681326000-1681333200@cbbronx.cityofnewyork.us
SUMMARY:District Manager Search Committee
DESCRIPTION:BxCB8 Board Office\n5676 Riverdale Avenue #100\, Bronx\, NY 10471
URL:https://cbbronx.cityofnewyork.us/cb8/event/district-manager-search-committee-3/
END:VEVENT
END:VCALENDAR